BEGIN:VCALENDAR
PRODID:-//AT Content Types//AT Event//EN
VERSION:1.0
BEGIN:VEVENT
DTSTART:20221123T170000Z
DTEND:20221124T223000Z
DCREATED:20221110T141320Z
UID:ATEvent-40d92a4f17fc4c76ac27d04900005a03
SEQUENCE:0
LAST-MODIFIED:20221117T113212Z
SUMMARY:LUCI CINESI
DESCRIPTION:中国影展 | Rassegna di cinema cinese al Cinema Italia 
 | 23 e 24 novembre 2022
PRIORITY:3
TRANSP:0
END:VEVENT
END:VCALENDAR
