BEGIN:VCALENDAR
PRODID:-//AT Content Types//AT Event//EN
VERSION:1.0
BEGIN:VEVENT
DTSTART:20170127T160000Z
DTEND:20170127T160000Z
DCREATED:20170116T135826Z
UID:ATEvent-a9295aa5805f4ff7b870ca5f8f4e050e
SEQUENCE:0
LAST-MODIFIED:20170125T160644Z
SUMMARY:Aspettando il CAPODANNO CINESE 2017
LOCATION:Orto dei Pensatori /via Garibaldi 20
PRIORITY:3
TRANSP:0
END:VEVENT
END:VCALENDAR
