BEGIN:VCALENDAR
PRODID:-//AT Content Types//AT Event//EN
VERSION:1.0
BEGIN:VEVENT
DTSTART:20220411T080000Z
DTEND:20220411T130000Z
DCREATED:20220407T093928Z
UID:ATEvent-65125ce4955541c7854c8c81285ac248
SEQUENCE:0
LAST-MODIFIED:20220408T161745Z
SUMMARY:"Buddhist modernism across Asia. With a focus on China and Nepal"
DESCRIPTION:Lunedì 11 aprile 2022
PRIORITY:3
TRANSP:0
END:VEVENT
END:VCALENDAR
