BEGIN:VCALENDAR
PRODID:-//AT Content Types//AT Event//EN
VERSION:2.0
METHOD:PUBLISH
BEGIN:VEVENT
DTSTAMP:20260420T153708Z
CREATED:20160127T174519Z
UID:ATEvent-fa6c7b3089cc42fdbd648c1d11351293
LAST-MODIFIED:20160204T125414Z
SUMMARY:Capodanno Cinese 2016
DTSTART:20160206T160000Z
DTEND:20160205T230000Z
DESCRIPTION:Anno della scimmia
LOCATION:Piazza Annessione - ore 18.30 Piazza della Libertà
CLASS:PUBLIC
END:VEVENT
END:VCALENDAR
