BEGIN:VCALENDAR
PRODID:-//AT Content Types//AT Event//EN
VERSION:2.0
METHOD:PUBLISH
BEGIN:VEVENT
DTSTAMP:20260420T154553Z
CREATED:20180213T102902Z
UID:ATEvent-35571620d2e040dd8d513fa633fac261
LAST-MODIFIED:20180213T102906Z
SUMMARY:Capodanno Cinese 2018 - Anno del Cane
DTSTART:20180217T160000Z
DTEND:20180213T225500Z
CLASS:PUBLIC
END:VEVENT
END:VCALENDAR
