BEGIN:VCALENDAR
PRODID:-//AT Content Types//AT Event//EN
VERSION:2.0
METHOD:PUBLISH
BEGIN:VEVENT
DTSTAMP:20260420T154049Z
CREATED:20230110T131234Z
UID:ATEvent-a3665fe577a54b15b99a787a508cc30a
LAST-MODIFIED:20230110T140852Z
SUMMARY:Capodanno cinese 2023 | Anno del Coniglio
DTSTART:20230121T140000Z
DTEND:20230121T190000Z
DESCRIPTION:21 gennaio 2023 | Centro Storico\, Macerata
CONTACT:Istituto Confucio\, 0733 258 5810\, info.confucio@unimc.it
URL:https://www.unimc.it/it/unimc-comunica/events/2023/capodanno-cinese-2023
CLASS:PUBLIC
END:VEVENT
END:VCALENDAR
