BEGIN:VCALENDAR
PRODID:-//AT Content Types//AT Event//EN
VERSION:1.0
BEGIN:VEVENT
DTSTART:20250201T140000Z
DTEND:20250201T190000Z
DCREATED:20250109T085715Z
UID:ATEvent-6c6a07bd928f4aa6966e5f7f02d82dc1
SEQUENCE:0
LAST-MODIFIED:20250127T133552Z
SUMMARY:Capodanno cinese 2025 | Anno del Serpente
DESCRIPTION:1 febbraio 2025 | Centro Storico\, Macerata
PRIORITY:3
TRANSP:0
END:VEVENT
END:VCALENDAR
