BEGIN:VCALENDAR
PRODID:-//AT Content Types//AT Event//EN
VERSION:2.0
METHOD:PUBLISH
BEGIN:VEVENT
DTSTAMP:20260420T153731Z
CREATED:20150204T133141Z
UID:ATEvent-17858934f5484f8cb5d69257c7048913
LAST-MODIFIED:20150204T233205Z
SUMMARY:Capodanno cinese 春节 2015
DTSTART:20150219T160000Z
DTEND:20150219T200000Z
LOCATION:Piazza della Libertà\, Macerata
CLASS:PUBLIC
END:VEVENT
END:VCALENDAR
