BEGIN:VCALENDAR
PRODID:-//AT Content Types//AT Event//EN
VERSION:1.0
BEGIN:VEVENT
DTSTART:20190923T080000Z
DTEND:20190919T160000Z
DCREATED:20190919T092559Z
UID:ATEvent-279511366e524e95af8f82613930dbca
SEQUENCE:0
LAST-MODIFIED:20190920T153100Z
SUMMARY:China and the World | International Conference
DESCRIPTION:CONTEMPORARY REACH AND INFLUENCE OF CHINESE CULTURE
LOCATION:Auditorium UniMC | via Padre Matteo Ricci 2
PRIORITY:3
TRANSP:0
END:VEVENT
END:VCALENDAR
