BEGIN:VCALENDAR
PRODID:-//AT Content Types//AT Event//EN
VERSION:2.0
METHOD:PUBLISH
BEGIN:VEVENT
DTSTAMP:20260420T154729Z
CREATED:20180215T133549Z
UID:ATEvent-22ebf8247b8b47529b93d216e1546f23
LAST-MODIFIED:20180215T134059Z
SUMMARY:China Camp - Capodanno Cinese anno del Cane
DTSTART:20180212T160000Z
DTEND:20180217T225500Z
DESCRIPTION:Appuntamenti di cultura cinese
CLASS:PUBLIC
END:VEVENT
END:VCALENDAR
