BEGIN:VCALENDAR
PRODID:-//AT Content Types//AT Event//EN
VERSION:2.0
METHOD:PUBLISH
BEGIN:VEVENT
DTSTAMP:20260420T153903Z
CREATED:20240514T134401Z
UID:ATEvent-603e5347b2914ab399c546817cca97d1
LAST-MODIFIED:20240514T150327Z
SUMMARY:Chinese Bridge 2024 | 汉语桥
DTSTART:20240523T130000Z
DTEND:20240524T150000Z
DESCRIPTION:23 - 24 maggio | Polo Pantaleoni - Cinema Italia\, Macerat
 a
CONTACT:Istituto Confucio\, 0733 2585810\, info.confucio@unimc.it
URL:http://bridge.chinese.cn/c23/opr/
CLASS:PUBLIC
END:VEVENT
END:VCALENDAR
