BEGIN:VCALENDAR
PRODID:-//AT Content Types//AT Event//EN
VERSION:2.0
METHOD:PUBLISH
BEGIN:VEVENT
DTSTAMP:20260420T153843Z
CREATED:20221003T120609Z
UID:ATEvent-315e951963ba4b1fb42b1e773b13706b
LAST-MODIFIED:20221003T121133Z
SUMMARY:Chinese Corner | 汉语角
DTSTART:20221004T140000Z
DTEND:20221222T170000Z
DESCRIPTION:Dal 4 ottobre 2022 a Villa Lauri
CONTACT:Alessia Morici\, 0733 258 5810\, info.confucio@unimc.it
CLASS:PUBLIC
END:VEVENT
END:VCALENDAR
