BEGIN:VCALENDAR
PRODID:-//AT Content Types//AT Event//EN
VERSION:1.0
BEGIN:VEVENT
DTSTART:20170929T160000Z
DTEND:20171003T215500Z
DCREATED:20170928T103153Z
UID:ATEvent-2fb1d188badf455090b101692b555490
SEQUENCE:0
LAST-MODIFIED:20170928T171113Z
SUMMARY:Cina e Russia - Mostra Manifesti di Propaganda
DESCRIPTION:Uno sguardo sugli anni '50 del Novecento attraverso i manf
 esti sdi propaganda
LOCATION:Atrio Dipartimento di Giurisprudenza\, Piaggia dell'Università 2 Macerata
PRIORITY:3
TRANSP:0
END:VEVENT
END:VCALENDAR
