BEGIN:VCALENDAR
PRODID:-//AT Content Types//AT Event//EN
VERSION:1.0
BEGIN:VEVENT
DTSTART:20231109T130000Z
DTEND:20231110T110000Z
DCREATED:20231109T100354Z
UID:ATEvent-d114cef2d118491faca649a092b607db
SEQUENCE:0
LAST-MODIFIED:20231109T101223Z
SUMMARY:CINA EUROPA. Incroci di vie e connessioni culturali
DESCRIPTION:Un appuntamento annuale\, un dialogo tra esperti\, un viag
 gio nello spazio e nel tempo.
PRIORITY:3
TRANSP:0
END:VEVENT
END:VCALENDAR
