BEGIN:VCALENDAR
PRODID:-//AT Content Types//AT Event//EN
VERSION:2.0
METHOD:PUBLISH
BEGIN:VEVENT
DTSTAMP:20260420T153649Z
CREATED:20150420T094030Z
UID:ATEvent-261055c3bd8643e086a0762b5caa9ab3
LAST-MODIFIED:20150420T111721Z
SUMMARY:Cinque dimesioni
DTSTART:20150428T070000Z
DTEND:20150428T160000Z
LOCATION:Villa Cola\, Macerata
CLASS:PUBLIC
END:VEVENT
END:VCALENDAR
