BEGIN:VCALENDAR
PRODID:-//AT Content Types//AT Event//EN
VERSION:2.0
METHOD:PUBLISH
BEGIN:VEVENT
DTSTAMP:20260420T153941Z
CREATED:20170511T113004Z
UID:ATEvent-eaee8625f8054f76a1bf44eca4cbe6ff
LAST-MODIFIED:20170512T111422Z
SUMMARY:Con l'inchiostro e il pennello - Lacan e Shitao
DTSTART:20170513T140000Z
DTEND:20170513T180000Z
DESCRIPTION:Il vincolo esistente tra Lacan e Shitao\, ovvero tra i fon
 damenti epistemologici della psicanalisi e i principi fondativi della 
 pittura cinese\, creando un ponte ideale tra Oriente e Occidente.
LOCATION:Sala Sbriccoli - CASB\, Centro d'Ateneo per i Servizi Bibliotecari\, Macerata\, Piazza Oberdan n. 4
CLASS:PUBLIC
END:VEVENT
END:VCALENDAR
