BEGIN:VCALENDAR
PRODID:-//AT Content Types//AT Event//EN
VERSION:1.0
BEGIN:VEVENT
DTSTART:20150215T200000Z
DTEND:20150215T200000Z
DCREATED:20150210T111512Z
UID:ATEvent-c5fc7cabc9a54bc396da5023c8173245
SEQUENCE:0
LAST-MODIFIED:20150213T090454Z
SUMMARY:Concerto di Yuja Wang
DESCRIPTION:Concerto di pianoforte\nSchubert/Liszt\, Chopin\, Skrjabin
 \, Balakirev
LOCATION:Teatro Lauro Rossi\, Macerata
PRIORITY:3
TRANSP:0
END:VEVENT
END:VCALENDAR
