BEGIN:VCALENDAR
PRODID:-//AT Content Types//AT Event//EN
VERSION:2.0
METHOD:PUBLISH
BEGIN:VEVENT
DTSTAMP:20260420T154457Z
CREATED:20260203T112532Z
UID:ATEvent-ceee5cda50f54538a98088f2ef61d04c
LAST-MODIFIED:20260206T132817Z
SUMMARY:Concerto Simon Zhu | Capodanno Cinese 2026
DTSTART:20260217T200000Z
DTEND:20260217T220000Z
DESCRIPTION:ORMA Orchestra Macerata in collaborazione con Istituto Con
 fucio
CONTACT:Istituto Confucio\, 0733 258 5810\, info.confucio@unimc.it
URL:https://www.comune.macerata.it/novita/nel-segno-di-mozart-prende-il-via-la-nuova-stagione-concertistica-di-orma-orchestra-macerata/
CLASS:PUBLIC
END:VEVENT
END:VCALENDAR
