BEGIN:VCALENDAR
PRODID:-//AT Content Types//AT Event//EN
VERSION:2.0
METHOD:PUBLISH
BEGIN:VEVENT
DTSTAMP:20260420T153901Z
CREATED:20240126T133104Z
UID:ATEvent-92423f141092448f913e2175e4cf68a5
LAST-MODIFIED:20240126T133250Z
SUMMARY:Concerto per il Capodanno Cinese 2024
DTSTART:20240130T200000Z
DTEND:20240126T223000Z
DESCRIPTION:30 gennaio\, ore 21 | Teatro Lauro Rossi\, Macerata
CONTACT:Istituto Confucio\, 0733 258 5810\, info.confucio@unimc.it
URL:https://appassionataonline.it/eventi/2024/vanessa-benelli-e-ziyu-he
CLASS:PUBLIC
END:VEVENT
END:VCALENDAR
