BEGIN:VCALENDAR
PRODID:-//AT Content Types//AT Event//EN
VERSION:2.0
METHOD:PUBLISH
BEGIN:VEVENT
DTSTAMP:20260420T153649Z
CREATED:20250206T153534Z
UID:ATEvent-6c69f9ecb0c64aef97a3c7f1ce92ec33
LAST-MODIFIED:20250206T153856Z
SUMMARY:Concerto Ying Li - Festa delle Lanterne
DTSTART:20250212T200000Z
DTEND:20250212T220000Z
DESCRIPTION:mercoledì 12 febbraio 2025\, ore 21 | Teatro Lauro Rossi
CONTACT:Istituto Confucio\, 07332585810\, info.confucio@unimc.it
URL:https://appassionataonline.it/eventi/2025/ying-li-1
CLASS:PUBLIC
END:VEVENT
END:VCALENDAR
