BEGIN:VCALENDAR
PRODID:-//AT Content Types//AT Event//EN
VERSION:2.0
METHOD:PUBLISH
BEGIN:VEVENT
DTSTAMP:20260420T155322Z
CREATED:20160516T163315Z
UID:ATEvent-fdeb6772b8e04491a43d5b2c690189ae
LAST-MODIFIED:20160516T163711Z
SUMMARY:Conferenza - LA GRANDE TRANSIZIONE CINESE\: esperienze di un giornalista nella Cina di Xi Jinping
DTSTART:20160519T163000Z
DTEND:20160518T220000Z
LOCATION:Aula Magna\, Istituto Confucio\, Viale Martiri della Libertà n. 59
CLASS:PUBLIC
END:VEVENT
END:VCALENDAR
