BEGIN:VCALENDAR
PRODID:-//AT Content Types//AT Event//EN
VERSION:1.0
BEGIN:VEVENT
DTSTART:20230928T150000Z
DTEND:20230928T170000Z
DCREATED:20230919T155056Z
UID:ATEvent-5f616d9935794e9b9f9ab09703730679
SEQUENCE:0
LAST-MODIFIED:20230919T162311Z
SUMMARY:Confucius Day 2023
DESCRIPTION:Giovedì 28 settembre | CreaHub e Dumpling Bar
PRIORITY:3
TRANSP:0
END:VEVENT
END:VCALENDAR
