BEGIN:VCALENDAR
PRODID:-//AT Content Types//AT Event//EN
VERSION:1.0
BEGIN:VEVENT
DTSTART:20241001T150000Z
DTEND:20241001T170000Z
DCREATED:20241003T093006Z
UID:ATEvent-97605ca7413a44f691d6ba9bbe9e51b4
SEQUENCE:0
LAST-MODIFIED:20241003T093034Z
SUMMARY:Confucius Day 2024
DESCRIPTION:1 ottobre\, ore 17-19 | Cortile di Filosofia\, Dumpling Ba
 r
PRIORITY:3
TRANSP:0
END:VEVENT
END:VCALENDAR
