BEGIN:VCALENDAR
PRODID:-//AT Content Types//AT Event//EN
VERSION:2.0
METHOD:PUBLISH
BEGIN:VEVENT
DTSTAMP:20260420T153755Z
CREATED:20250919T124304Z
UID:ATEvent-a4063824635d4cbe8ffd1fddcdf02ec3
LAST-MODIFIED:20250919T134210Z
SUMMARY:Confucius Day 2025
DTSTART:20251001T150000Z
DTEND:20250919T170000Z
DESCRIPTION:1 ottobre\, ore 17-19 | Cortile di Filosofia\, Dumpling Ba
 r
CLASS:PUBLIC
END:VEVENT
END:VCALENDAR
