BEGIN:VCALENDAR
PRODID:-//AT Content Types//AT Event//EN
VERSION:1.0
BEGIN:VEVENT
DTSTART:20170929T183000Z
DTEND:20170929T215500Z
DCREATED:20170928T105737Z
UID:ATEvent-148ecc65414e4246a1fc8278d5551439
SEQUENCE:0
LAST-MODIFIED:20170928T165323Z
SUMMARY:Confucius Day / Looking China / Notte della Ricerca 2017
DESCRIPTION:Proiezione di documentari realizzati dal gruppo dell'Unive
 rsità di Macerata all'interno del progetto di scambio culturale Looki
 ng Chine International Youth Film Festival
LOCATION:Piazza della Libertà - Macerata
PRIORITY:3
TRANSP:0
END:VEVENT
END:VCALENDAR
