BEGIN:VCALENDAR
PRODID:-//AT Content Types//AT Event//EN
VERSION:1.0
BEGIN:VEVENT
DTSTART:20160924T080000Z
DTEND:20160925T150000Z
DCREATED:20160921T105838Z
UID:ATEvent-0f895ae8262f428690812fe493f5a852
SEQUENCE:0
LAST-MODIFIED:20160922T082618Z
SUMMARY:CONFUCIUS DAY/ Mostra e laboratorio di calligrafia cinese
DESCRIPTION:Mostra di calligrafie del maestro Zhao Yun
LOCATION:Galleria Antichi Forni/ Piaggia della Torre 4 - Macerata
PRIORITY:3
TRANSP:0
END:VEVENT
END:VCALENDAR
