BEGIN:VCALENDAR
PRODID:-//AT Content Types//AT Event//EN
VERSION:1.0
BEGIN:VEVENT
DTSTART:20161130T133000Z
DTEND:20161201T160000Z
DCREATED:20161125T142440Z
UID:ATEvent-c84e9f25c71e4794acfcb74f4fa80f4b
SEQUENCE:0
LAST-MODIFIED:20161130T112457Z
SUMMARY:CONVEGNO INTERNAZIONALE / La prossimità e la distanza
DESCRIPTION:Dialoghi e discorsi sulla didattica delle lingue straniere
  tra Europa e Cina
LOCATION:Aula sinodale della Domus San Giuliano\, Via Cincinelli\, 4\, Macerata
PRIORITY:3
TRANSP:0
END:VEVENT
END:VCALENDAR
