BEGIN:VCALENDAR
PRODID:-//AT Content Types//AT Event//EN
VERSION:1.0
BEGIN:VEVENT
DTSTART:20180502T070000Z
DTEND:20180502T170000Z
DCREATED:20180427T112542Z
UID:ATEvent-4beabeda3ac7460b8d79ae71e4c87acd
SEQUENCE:0
LAST-MODIFIED:20180427T112706Z
SUMMARY:Convegno Internazionale
DESCRIPTION:CHINESE TRADITIONAL CULTURE TODAY\: new challenges and new
  frontiers
LOCATION:Aula Confucio Ex L - Polo Didattico G. Tucci/ Via Morbiducci
PRIORITY:3
TRANSP:0
END:VEVENT
END:VCALENDAR
