BEGIN:VCALENDAR
PRODID:-//AT Content Types//AT Event//EN
VERSION:2.0
METHOD:PUBLISH
BEGIN:VEVENT
DTSTAMP:20260420T154028Z
CREATED:20170928T093547Z
UID:ATEvent-78103a9dbad747e68091d663fc79ba6f
LAST-MODIFIED:20170929T121743Z
SUMMARY:Dietro le Quinte dell'Opera Cinese / Notte della Ricerca 2017
DTSTART:20170929T150000Z
DTEND:20170929T215500Z
DESCRIPTION:Mostra Fotografica
LOCATION:Locali Loggia del Grano Via Don Minzoni 22/A
CLASS:PUBLIC
END:VEVENT
END:VCALENDAR
