BEGIN:VCALENDAR
PRODID:-//AT Content Types//AT Event//EN
VERSION:2.0
METHOD:PUBLISH
BEGIN:VEVENT
DTSTAMP:20260420T155045Z
CREATED:20150423T095624Z
UID:ATEvent-39cfa373674c4e7aa5bd5a3ccff7cb22
LAST-MODIFIED:20150504T090116Z
SUMMARY:Il Daoismo e la sua influenza sulla letteratura cinese tradizionale
DTSTART:20150505T140000Z
DTEND:20150504T220000Z
DESCRIPTION:Conferenza e presentazione del libro del Prof. Maurizio Pa
 olillo
LOCATION:Villa Cola\, Macerata
CLASS:PUBLIC
END:VEVENT
END:VCALENDAR
