BEGIN:VCALENDAR
PRODID:-//AT Content Types//AT Event//EN
VERSION:2.0
METHOD:PUBLISH
BEGIN:VEVENT
DTSTAMP:20260420T155239Z
CREATED:20160422T122021Z
UID:ATEvent-d074f7950fd74db09979d5ea5c1cdc74
LAST-MODIFIED:20160422T122251Z
SUMMARY:Il Significato della Cultura tradizionale cinese nella civiltà odierna
DTSTART:20160426T080000Z
DTEND:20160426T150000Z
DESCRIPTION:Convegno Internazionale
LOCATION:Istituto Confucio\, Villa Cola
CLASS:PUBLIC
END:VEVENT
END:VCALENDAR
