BEGIN:VCALENDAR
PRODID:-//AT Content Types//AT Event//EN
VERSION:2.0
METHOD:PUBLISH
BEGIN:VEVENT
DTSTAMP:20260420T154958Z
CREATED:20170404T141234Z
UID:ATEvent-8b86344054ef42c4804ad990673d6b35
LAST-MODIFIED:20170505T093118Z
SUMMARY:Incontri di scambio linguistico Cinese / Italiano - gratuiti
DTSTART:20170504T190000Z
DTEND:20171231T200000Z
DESCRIPTION:Riprendono da giovedì 4 maggio alle ore 21. Aperti a tutt
 i\, studenti ed interessati
LOCATION:Ogni giovedì a partire dal 30 marzo 2017 / ore 21.00 Aule del CREA HUB - Palazzo degli Studi - Via Gramsci\, 29/31 Macerata
CLASS:PUBLIC
END:VEVENT
END:VCALENDAR
