BEGIN:VCALENDAR
PRODID:-//AT Content Types//AT Event//EN
VERSION:1.0
BEGIN:VEVENT
DTSTART:20161011T080000Z
DTEND:20161012T143000Z
DCREATED:20161006T123717Z
UID:ATEvent-940cf8848d554daba05f4fe12b533c62
SEQUENCE:0
LAST-MODIFIED:20161006T131326Z
SUMMARY:Ink Hub -  Laboratorio permanente di ricerca sulla china
DESCRIPTION:Convegno "L'identità espressiva del tratto - Percorsi vis
 ivi tra calligrafia e pittura cinese"
LOCATION:Istituto Confucio - Villa Cola - Viale Martiri della Libertà\, 59 Macerata
PRIORITY:3
TRANSP:0
END:VEVENT
END:VCALENDAR
