BEGIN:VCALENDAR
PRODID:-//AT Content Types//AT Event//EN
VERSION:1.0
BEGIN:VEVENT
DTSTART:20151021T070000Z
DTEND:20151023T180000Z
DCREATED:20151019T143048Z
UID:ATEvent-a76b15c6930c466db58474abe52728d3
SEQUENCE:0
LAST-MODIFIED:20151019T144226Z
SUMMARY:International Conference/ NEW PERSPECTIVES IN THE STUDIES ON MATTEO RICCI
DESCRIPTION:Macerata 21- 23 October 2015
PRIORITY:3
TRANSP:0
END:VEVENT
END:VCALENDAR
