BEGIN:VCALENDAR
PRODID:-//AT Content Types//AT Event//EN
VERSION:1.0
BEGIN:VEVENT
DTSTART:20160229T200000Z
DTEND:20160229T200000Z
DCREATED:20160225T095203Z
UID:ATEvent-139957fc24a644ac9c2a6d2c762f329c
SEQUENCE:0
LAST-MODIFIED:20160225T095742Z
SUMMARY:Jiaoyue Lyu - Concerto di Guqin
PRIORITY:3
TRANSP:0
END:VEVENT
END:VCALENDAR
