BEGIN:VCALENDAR
PRODID:-//AT Content Types//AT Event//EN
VERSION:2.0
METHOD:PUBLISH
BEGIN:VEVENT
DTSTAMP:20260420T153757Z
CREATED:20251030T095554Z
UID:ATEvent-ebeff04ea28d476f9610c5aff5136e3a
LAST-MODIFIED:20251104T084713Z
SUMMARY:La Cina spiegata all'Occidente
DTSTART:20251106T150000Z
DTEND:20251106T170000Z
DESCRIPTION:Conferenza del sociologo Pino Arlacchi
CONTACT:Istituto Confucio\, 07332585810\, info.confucio@unimc.it
CLASS:PUBLIC
END:VEVENT
END:VCALENDAR
