BEGIN:VCALENDAR
PRODID:-//AT Content Types//AT Event//EN
VERSION:2.0
METHOD:PUBLISH
BEGIN:VEVENT
DTSTAMP:20260420T153756Z
CREATED:20251013T102357Z
UID:ATEvent-8d2b6b886a994aa9b66ba3d245afd81d
LAST-MODIFIED:20251013T102430Z
SUMMARY:Li Dadù de Li Madou
DTSTART:20251017T130000Z
DTEND:20251017T160000Z
DESCRIPTION:Macerata Humanities Festival | Ludo-laboratorio su Padre M
 atteo Ricci e Macerata
CONTACT:Istituto Confucio\, 07332585810\, info.confucio@unimc.it
URL:https://humanitiesfestival.my.canva.site/
CLASS:PUBLIC
END:VEVENT
END:VCALENDAR
