BEGIN:VCALENDAR
PRODID:-//AT Content Types//AT Event//EN
VERSION:1.0
BEGIN:VEVENT
DTSTART:20251105T200000Z
DTEND:20251113T220000Z
DCREATED:20251016T154326Z
UID:ATEvent-349ce56c48c340128287816125a17e03
SEQUENCE:0
LAST-MODIFIED:20251017T175710Z
SUMMARY:LUCI CINESI 中国电影周
DESCRIPTION:Rassegna di cinema cinese 2025 @ Cinema Italia
PRIORITY:3
TRANSP:0
END:VEVENT
END:VCALENDAR
