BEGIN:VCALENDAR
PRODID:-//AT Content Types//AT Event//EN
VERSION:2.0
METHOD:PUBLISH
BEGIN:VEVENT
DTSTAMP:20260420T155235Z
CREATED:20170321T115312Z
UID:ATEvent-4c10b417df29499594357570aeeb2ff1
LAST-MODIFIED:20170321T160733Z
SUMMARY:Jiaoyue Lyu - La musica tradizionale Cinese - Lezione aperta
DTSTART:20170323T140000Z
DTEND:20170323T160000Z
DESCRIPTION:23 marzo 2017 ore 15\,00\nAula William Shakespeare\nPolo D
 idattico G. Tucci\npresso Il Dipartimento di Studi Umanistici
LOCATION:Aula A "William Shakespeare"      Polo Didattico G. Tucci c/o Il Dipartimento di Studi Umanistici
CLASS:PUBLIC
END:VEVENT
END:VCALENDAR
