BEGIN:VCALENDAR
PRODID:-//AT Content Types//AT Event//EN
VERSION:2.0
METHOD:PUBLISH
BEGIN:VEVENT
DTSTAMP:20260420T155136Z
CREATED:20160527T102114Z
UID:ATEvent-e1b6aaffba4a40c29167646f179858dd
LAST-MODIFIED:20160527T102434Z
SUMMARY:Mostra Fotografica di Paolo Longo - Il sentiero Cinese
DTSTART:20160527T140000Z
DTEND:20160605T180000Z
DESCRIPTION:La vita in Cina al tempo del boom economico
LOCATION:GABA.MC \, Piazza Vittorio Veneto\, Macerata
URL:http://www.unimc.it/it/unimc-comunica/events/mostra-fotografica-il-sentiero-cinese
CLASS:PUBLIC
END:VEVENT
END:VCALENDAR
