BEGIN:VCALENDAR
PRODID:-//AT Content Types//AT Event//EN
VERSION:2.0
METHOD:PUBLISH
BEGIN:VEVENT
DTSTAMP:20260422T085658Z
CREATED:20150616T104811Z
UID:ATEvent-e4b5b36e0df14a4ba16c32ee49c21800
LAST-MODIFIED:20150616T113411Z
SUMMARY:XIAO HE A MUSICULTURA
DTSTART:20150620T190000Z
DTEND:20150619T220000Z
DESCRIPTION:con la partecipazione di Patrizio Fariselli (Area).
LOCATION:Arena Sferisterio\, Macerata
CLASS:PUBLIC
END:VEVENT
END:VCALENDAR
