BEGIN:VCALENDAR
PRODID:-//AT Content Types//AT Event//EN
VERSION:1.0
BEGIN:VEVENT
DTSTART:20171004T060000Z
DTEND:20171008T215500Z
DCREATED:20170925T093443Z
UID:ATEvent-158ea09e87aa4cb7990b97f01f8ffd04
SEQUENCE:0
LAST-MODIFIED:20170925T112440Z
SUMMARY:ISTITUTO CONFUCIO / OVERTIME FESTIVAL  -  4 / 8 Ottobre 2017
DESCRIPTION:FESTIVAL DEL RACCONTO E DELL'ETICA SPORTIVA
LOCATION:Biblioteca Mozzi Borgetti - Palazzo degli Studi - CreaHub
PRIORITY:3
TRANSP:0
END:VEVENT
END:VCALENDAR
