BEGIN:VCALENDAR
PRODID:-//AT Content Types//AT Event//EN
VERSION:1.0
BEGIN:VEVENT
DTSTART:20171003T130000Z
DTEND:20171003T150000Z
DCREATED:20171002T153829Z
UID:ATEvent-24bec11fa1e64587b6b2a211a33411ca
SEQUENCE:0
LAST-MODIFIED:20171002T154706Z
SUMMARY:Pastoral Civilization in the modern world\: understanding coupled human- natural system
DESCRIPTION:Lezione del Prof. Dong Shikui - Beijing Normal University
LOCATION:Aula Virgilio ex M - Palazzo Tucci - Corso Cavour\, Macerata
PRIORITY:3
TRANSP:0
END:VEVENT
END:VCALENDAR
