BEGIN:VCALENDAR
PRODID:-//AT Content Types//AT Event//EN
VERSION:2.0
METHOD:PUBLISH
BEGIN:VEVENT
DTSTAMP:20260420T154752Z
CREATED:20181030T145424Z
UID:ATEvent-86dade72f40d4b659a9082fb6dbfc2ea
LAST-MODIFIED:20181031T185626Z
SUMMARY:Percorsi letterari nella Cina contemporanea
DTSTART:20181031T160000Z
DTEND:20181031T180000Z
DESCRIPTION:Incontro con YU HUA 余华
LOCATION:Aula Blu Polo Pantaleoni
CONTACT:+39 0733 258 / 5811 - 5813 - 5815 - 5806\, info.confucio@unimc.it
CLASS:PUBLIC
END:VEVENT
END:VCALENDAR
