BEGIN:VCALENDAR
PRODID:-//AT Content Types//AT Event//EN
VERSION:2.0
METHOD:PUBLISH
BEGIN:VEVENT
DTSTAMP:20260420T155112Z
CREATED:20160516T150447Z
UID:ATEvent-556f213c28004ba38e14a598284ac101
LAST-MODIFIED:20160516T150640Z
SUMMARY:Presentazione del volume/ NEIYE. IL TAO DELL'ARMONIA INTERIORE
DTSTART:20160531T080000Z
DTEND:20160530T220000Z
DESCRIPTION:A cura di Amina Crisma
LOCATION:Istituto Confucio\, Villa Cola / Viale Martiri della Libertà n. 59
CLASS:PUBLIC
END:VEVENT
END:VCALENDAR
