BEGIN:VCALENDAR
PRODID:-//AT Content Types//AT Event//EN
VERSION:1.0
BEGIN:VEVENT
DTSTART:20150522T150000Z
DTEND:20150522T150000Z
DCREATED:20150520T120919Z
UID:ATEvent-81b9d343d2f64e03b4517b53b45a466b
SEQUENCE:0
LAST-MODIFIED:20150520T135149Z
SUMMARY:PRESENTAZIONE PUBBLICA - LA CARTOGRAFIA DI MATTEO RICCI
DESCRIPTION:ISTITUTO POLIGRAFICO E ZECCA DELLO STATO\, ROMA 2013
LOCATION:Aula Magna\, Piazza della Libertà
PRIORITY:3
TRANSP:0
END:VEVENT
END:VCALENDAR
