BEGIN:VCALENDAR
PRODID:-//AT Content Types//AT Event//EN
VERSION:2.0
METHOD:PUBLISH
BEGIN:VEVENT
DTSTAMP:20260420T155233Z
CREATED:20170428T132931Z
UID:ATEvent-f5be1a359f2c4a4596f2c937094c48d3
LAST-MODIFIED:20170502T100559Z
SUMMARY:Matteo Ricci. The Mandarin of Friendship
DTSTART:20170503T150000Z
DTEND:20170502T220000Z
DESCRIPTION:Proiezione Documentario\nUna co-produzione Italia-Cina 201
 6
LOCATION:Aula Dante Alighieri (Ex H) Polo didattico G. Tucci / Palazzo Ugolini C.so Cavour\, 2 / Macerata
CLASS:PUBLIC
END:VEVENT
END:VCALENDAR
