BEGIN:VCALENDAR
PRODID:-//AT Content Types//AT Event//EN
VERSION:2.0
METHOD:PUBLISH
BEGIN:VEVENT
DTSTAMP:20260420T153758Z
CREATED:20241003T093624Z
UID:ATEvent-3e2fc0860ab3414fb60f87160a54b904
LAST-MODIFIED:20241003T095145Z
SUMMARY:Raccontare la Cina
DTSTART:20241008T130000Z
DTEND:20241008T150000Z
DESCRIPTION:Conferenza della sinologa e giornalista Maria Novella Ross
 i
CONTACT:Istituto Confucio\, 07332585810\, info.confucio@unimc.it
CLASS:PUBLIC
END:VEVENT
END:VCALENDAR
