BEGIN:VCALENDAR
PRODID:-//AT Content Types//AT Event//EN
VERSION:1.0
BEGIN:VEVENT
DTSTART:20150330T110000Z
DTEND:20150330T110000Z
DCREATED:20150316T123111Z
UID:ATEvent-5fe53e5a588048099a100b27d90f91d8
SEQUENCE:0
LAST-MODIFIED:20150316T123205Z
SUMMARY:Riunione borse di studio
LOCATION:Villa Cola\, Macerata
PRIORITY:3
TRANSP:0
END:VEVENT
END:VCALENDAR
