BEGIN:VCALENDAR
PRODID:-//AT Content Types//AT Event//EN
VERSION:1.0
BEGIN:VEVENT
DTSTART:20180423T073000Z
DTEND:20180423T113000Z
DCREATED:20180417T121531Z
UID:ATEvent-e203104d502a4cf380fc2167c19f0a1b
SEQUENCE:0
LAST-MODIFIED:20191204T165344Z
SUMMARY:Rivoluzione Creativa. Le industrie culturali e creative in Cina
DESCRIPTION:Presentazione del numero 161 di "Mondo Cinese"\, Rivista d
 i Studi sulla Cina Contemporanea della Fondazione Italia Cina
PRIORITY:3
TRANSP:0
END:VEVENT
END:VCALENDAR
